BEGIN:VCALENDAR
VERSION:2.0
PRODID:-//Squarespace Inc/Squarespace 6//v6//EN
BEGIN:VEVENT
UID:5a00f95b652dea7be934595d@squarespace.com
DTSTAMP:20171114T052305Z
DTSTART:20171128T073000Z
DTEND:20171128T093000Z
SUMMARY:Walk with Me
GEO:-33.873843;151.2056
LOCATION:Anglican Deaconess Ministries
END:VEVENT
END:VCALENDAR
