BEGIN:VCALENDAR
VERSION:2.0
PRODID:-//Squarespace Inc/Squarespace 6//v6//EN
BEGIN:VEVENT
UID:5ad58a6470a6ad9f611c478d@squarespace.com
DTSTAMP:20180508T230206Z
DTSTART:20180607T081500Z
DTEND:20180607T110000Z
SUMMARY:SHOWCASE – The Hub
END:VEVENT
END:VCALENDAR
