BEGIN:VCALENDAR
VERSION:2.0
PRODID:-//Squarespace Inc/Squarespace 6//v6//EN
BEGIN:VEVENT
UID:5aa5fc2dc8302542e9d7eefc@squarespace.com
DTSTAMP:20180312T040427Z
DTSTART:20180703T000000Z
DTEND:20180703T020000Z
SUMMARY:Mary Andrews College Information Morning - 3 July 
END:VEVENT
END:VCALENDAR
