BEGIN:VCALENDAR
VERSION:2.0
PRODID:-//Squarespace Inc/Squarespace 6//v6//EN
BEGIN:VEVENT
UID:5aa5fa34e4966bde366a789f@squarespace.com
DTSTAMP:20180312T040435Z
DTSTART:20180411T000000Z
DTEND:20180411T020000Z
SUMMARY:Mary Andrews College Information Morning - 11 April
END:VEVENT
END:VCALENDAR
