BEGIN:VCALENDAR
VERSION:2.0
PRODID:-//Squarespace Inc/Squarespace 6//v6//EN
BEGIN:VEVENT
UID:5aa5fc09652dea7e556f0a38@squarespace.com
DTSTAMP:20180312T041158Z
DTSTART:20180628T000000Z
DTEND:20180628T020000Z
SUMMARY:Mary Andrews College Information Morning - 28 June
END:VEVENT
END:VCALENDAR
