BEGIN:VCALENDAR
VERSION:2.0
PRODID:-//Squarespace Inc/Squarespace 6//v6//EN
BEGIN:VEVENT
UID:5aa5fe0e0d92979ac9862d0f@squarespace.com
DTSTAMP:20180614T010128Z
DTSTART:20180713T000000Z
DTEND:20180713T020000Z
SUMMARY:Mary Andrews College Information Morning - 13 July
END:VEVENT
END:VCALENDAR
