BEGIN:VCALENDAR
VERSION:2.0
PRODID:-//Squarespace Inc/Squarespace 6//v6//EN
BEGIN:VEVENT
UID:5aa5f9609140b73db6b1238d@squarespace.com
DTSTAMP:20180312T035440Z
DTSTART:20180323T083000Z
DTEND:20180323T103000Z
SUMMARY:Mary Andrews College 2018 Graduation
END:VEVENT
END:VCALENDAR
