BEGIN:VCALENDAR
VERSION:2.0
PRODID:-//Squarespace Inc/Squarespace 6//v6//EN
BEGIN:VEVENT
UID:59910bc0be42d6a167446161@squarespace.com
DTSTAMP:20170822T031708Z
DTSTART:20170923T000000Z
DTEND:20170925T070000Z
SUMMARY:Life with the Luthers
END:VEVENT
END:VCALENDAR
