BEGIN:VCALENDAR
VERSION:2.0
PRODID:-//Squarespace Inc/Squarespace 6//v6//EN
BEGIN:VEVENT
UID:5ad57f6788251b7278a75d4b@squarespace.com
DTSTAMP:20180508T042040Z
DTSTART:20180725T233000Z
DTEND:20180726T060000Z
SUMMARY:Ideas Hub – Melbourne
GEO:-37.783723;144.957376
LOCATION:Ridley College\, 170 The Avenue\, Parkville\, VIC\, 3052\, Austral
 ia
END:VEVENT
END:VCALENDAR
