BEGIN:VCALENDAR
VERSION:2.0
PRODID:-//Squarespace Inc/Squarespace 6//v6//EN
BEGIN:VEVENT
UID:5b3ad12d2b6a28127000b539@squarespace.com
DTSTAMP:20180703T013040Z
DTSTART:20180802T071500Z
DTEND:20180802T081500Z
SUMMARY:Fellowships Q&A Session - August
END:VEVENT
END:VCALENDAR
