BEGIN:VCALENDAR
VERSION:2.0
PRODID:-//Squarespace Inc/Squarespace 6//v6//EN
BEGIN:VEVENT
UID:597e884e3a041181d9de2536@squarespace.com
DTSTAMP:20170731T013619Z
DTSTART:20170728T230000Z
DTEND:20170729T060000Z
SUMMARY:ENGAGE RETREAT: Getting Read – Writing for publication
END:VEVENT
END:VCALENDAR
