BEGIN:VCALENDAR
VERSION:2.0
PRODID:-//Squarespace Inc/Squarespace 6//v6//EN
BEGIN:VEVENT
UID:5b148512aa4a992f18847adc@squarespace.com
DTSTAMP:20180705T234246Z
DTSTART:20180622T233000Z
DTEND:20180623T023000Z
SUMMARY:ENGAGE | Masterclass. ‘Money matters for women: Understanding the b
 asics’
END:VEVENT
END:VCALENDAR
