BEGIN:VCALENDAR
VERSION:2.0
PRODID:-//Squarespace Inc/Squarespace 6//v6//EN
BEGIN:VEVENT
UID:597e862a15d5dbc171efc925@squarespace.com
DTSTAMP:20170809T003729Z
DTSTART:20170814T023000Z
DTEND:20170814T040000Z
SUMMARY:Engage Lunch: Christian ethics and public engagement – the current 
 euthanasia debate
END:VEVENT
END:VCALENDAR
