BEGIN:VCALENDAR
VERSION:2.0
PRODID:-//Squarespace Inc/Squarespace 6//v6//EN
BEGIN:VEVENT
UID:598a56b5914e6b5b5960a25c@squarespace.com
DTSTAMP:20170809T004504Z
DTSTART:20170811T003000Z
DTEND:20170811T020000Z
SUMMARY:ENGAGE BRUNCH Flourishing in Public Life: Navigating the challenges 
 of academia\, gender and work-life balance
END:VEVENT
END:VCALENDAR
