BEGIN:VCALENDAR
VERSION:2.0
PRODID:-//Squarespace Inc/Squarespace 6//v6//EN
BEGIN:VEVENT
UID:5996396b03596e6169d4852a@squarespace.com
DTSTAMP:20170906T010718Z
DTSTART:20171014T030000Z
DTEND:20171014T060000Z
SUMMARY:Engage Teen Masterclass: How to be a film and TV critic
GEO:-33.874058;151.205445
LOCATION:ADM\, Level 1St Andrews House\, 464-480 kent St\, Sydney\, NSW 200
 0\, Australia
END:VEVENT
END:VCALENDAR
