BEGIN:VCALENDAR
VERSION:2.0
PRODID:-//Squarespace Inc/Squarespace 6//v6//EN
BEGIN:VEVENT
UID:5acc505e70a6adaedb8416c0@squarespace.com
DTSTAMP:20180508T232558Z
DTSTART:20180503T081500Z
DTEND:20180503T103000Z
SUMMARY:ENGAGE Evening Sessions
END:VEVENT
END:VCALENDAR
