BEGIN:VCALENDAR
VERSION:2.0
PRODID:-//Squarespace Inc/Squarespace 6//v6//EN
BEGIN:VEVENT
UID:5af23206562fa79ea1a4ac3a@squarespace.com
DTSTAMP:20180508T233259Z
DTSTART:20180614T081500Z
DTEND:20180614T103000Z
SUMMARY:ENGAGE Evening Sessions
END:VEVENT
END:VCALENDAR
