BEGIN:VCALENDAR
VERSION:2.0
PRODID:-//Squarespace Inc/Squarespace 6//v6//EN
BEGIN:VEVENT
UID:5b221081575d1f9090dad0ab@squarespace.com
DTSTAMP:20180703T012023Z
DTSTART:20180705T081500Z
DTEND:20180705T103000Z
SUMMARY:ENGAGE Evening Sessions
END:VEVENT
END:VCALENDAR
