BEGIN:VCALENDAR
VERSION:2.0
PRODID:-//Squarespace Inc/Squarespace 6//v6//EN
BEGIN:VEVENT
UID:5b3ad00eaa4a9981e054134a@squarespace.com
DTSTAMP:20180703T012954Z
DTSTART:20180802T081500Z
DTEND:20180802T103000Z
SUMMARY:ENGAGE Evening Sessions | August
END:VEVENT
END:VCALENDAR
