BEGIN:VCALENDAR
VERSION:2.0
PRODID:-//Squarespace Inc/Squarespace 6//v6//EN
BEGIN:VEVENT
UID:5b71291ff950b71d4a74700b@squarespace.com
DTSTAMP:20180820T032141Z
DTSTART:20180906T081500Z
DTEND:20180906T103000Z
SUMMARY:ENGAGE Evening Sessions | September
END:VEVENT
END:VCALENDAR
