BEGIN:VCALENDAR
VERSION:2.0
PRODID:-//Squarespace Inc/Squarespace 6//v6//EN
BEGIN:VEVENT
UID:5b3eacf688251b15cde0ae2c@squarespace.com
DTSTAMP:20180820T061155Z
DTSTART:20180827T083000Z
DTEND:20180827T103000Z
SUMMARY:ENGAGE | Dinner. ‘Finding your voice for public engagement’
END:VEVENT
END:VCALENDAR
