BEGIN:VCALENDAR
VERSION:2.0
PRODID:-//Squarespace Inc/Squarespace 6//v6//EN
BEGIN:VEVENT
UID:5b7a5736562fa7c4f8e880b4@squarespace.com
DTSTAMP:20180820T063446Z
DTSTART:20180922T000000Z
DTEND:20180922T050000Z
SUMMARY:ENGAGE | Masterclass: Presenting with Impact
END:VEVENT
END:VCALENDAR
