BEGIN:VCALENDAR
VERSION:2.0
PRODID:-//Squarespace Inc/Squarespace 6//v6//EN
BEGIN:VEVENT
UID:5aa08481085229dea8a36317@squarespace.com
DTSTAMP:20180626T044205Z
DTSTART:20180918T233000Z
DTEND:20180919T063000Z
SUMMARY:2018 Annual Funding Event 
END:VEVENT
END:VCALENDAR
