BEGIN:VCALENDAR
VERSION:2.0
PRODID:-//Squarespace Inc/Squarespace 6//v6//EN
BEGIN:VEVENT
UID:5b3acedc8a922db3b588aa78@squarespace.com
DTSTAMP:20180703T013114Z
DTSTART:20180705T071500Z
DTEND:20180705T081500Z
SUMMARY:Fellowships Q&A Session – July
END:VEVENT
END:VCALENDAR
