BEGIN:VCALENDAR
VERSION:2.0
PRODID:-//Squarespace Inc/Squarespace 6//v6//EN
BEGIN:VEVENT
UID:5ac5b8de88251b7c092eed90@squarespace.com
DTSTAMP:20180430T111153Z
DTSTART:20180521T210000Z
DTEND:20180521T223000Z
SUMMARY:ENGAGE Breakfast: ‘Board Search’
END:VEVENT
END:VCALENDAR
