BEGIN:VCALENDAR
VERSION:2.0
PRODID:-//Squarespace Inc/Squarespace 6//v6//EN
BEGIN:VEVENT
UID:5ba9ae21085229e608f36835@squarespace.com
DTSTAMP:20180928T014146Z
DTSTART:20181108T083000Z
DTEND:20181108T100000Z
SUMMARY:ADM Public Lecture
GEO:-33.874363;151.206856
LOCATION:St Andrew's Cathedral\, Corner of George & Bathurst Streets\, Sydn
 ey\, NSW 2000\, Australia
END:VEVENT
END:VCALENDAR
