BEGIN:VCALENDAR
VERSION:2.0
PRODID:-//Squarespace Inc/Squarespace 6//v6//EN
BEGIN:VEVENT
UID:5976dd7f1e5b6c546cf231d7@squarespace.com
DTSTAMP:20170911T020748Z
DTSTART:20171012T083000Z
DTEND:20171012T103000Z
SUMMARY:ADM Public Lecture
END:VEVENT
END:VCALENDAR
