BEGIN:VCALENDAR
VERSION:2.0
PRODID:-//Squarespace Inc/Squarespace 6//v6//EN
BEGIN:VEVENT
UID:59b139a59f8dce2f6a654c08@squarespace.com
DTSTAMP:20171008T233343Z
DTSTART:20171010T063000Z
DTEND:20171010T093000Z
SUMMARY:Christianity and Culture: A panel discussion
END:VEVENT
END:VCALENDAR
