BEGIN:VCALENDAR
VERSION:2.0
PRODID:-//Squarespace Inc/Squarespace 6//v6//EN
BEGIN:VEVENT
UID:59b5f1a6f9a61eed0eae0012@squarespace.com
DTSTAMP:20170927T023741Z
DTSTART:20171010T030000Z
DTEND:20171010T053000Z
SUMMARY:Masterclass - How to survive the apocalypse: zombies\, cylons\, fai
 th\, and politics at the end of the world 
END:VEVENT
END:VCALENDAR
