BEGIN:VCALENDAR
VERSION:2.0
PRODID:-//Squarespace Inc/Squarespace 6//v6//EN
BEGIN:VEVENT
UID:59cb0ef58fd4d2d355b1b09c@squarespace.com
DTSTAMP:20170927T064009Z
DTSTART:20171013T220000Z
DTEND:20171014T003000Z
SUMMARY:Engage Masterclass - How to write so anyone can read it
END:VEVENT
END:VCALENDAR
